{
 "version": 1.0,
 "tileBundlesPath": "./tile",
 "spatialReference": {
  "wkid": 102100,
  "latestWkid": 3857
 },
 "storageInfo": {
  "packetSize": 128,
  "storageFormat": "esriMapCacheStorageModeCompactV2"
 },
 "tileImageInfo": {
  "format": "PNG",
  "compressionQuality": 0,
  "bandCount": 1,
  "lercError": 0
 },
 "tileInfo": {
  "spatialReference": {
   "wkid": 102100,
   "latestWkid": 3857
  },
  "origin": {
   "x": -2.0037508342787E7,
   "y": 2.0037508342787E7
  },
  "rows": 256,
  "cols": 256,
  "dpi": 96,
  "lods": [
   {
    "level": 0,
    "resolution": 156543.033928,
    "scale": 5.91657527591555E8
   },
   {
    "level": 1,
    "resolution": 78271.5169639999,
    "scale": 2.95828763795777E8
   },
   {
    "level": 2,
    "resolution": 39135.7584820001,
    "scale": 1.47914381897889E8
   },
   {
    "level": 3,
    "resolution": 19567.8792409999,
    "scale": 7.3957190948944E7
   },
   {
    "level": 4,
    "resolution": 9783.93962049996,
    "scale": 3.6978595474472E7
   },
   {
    "level": 5,
    "resolution": 4891.96981024998,
    "scale": 1.8489297737236E7
   },
   {
    "level": 6,
    "resolution": 2445.98490512499,
    "scale": 9244648.868618
   },
   {
    "level": 7,
    "resolution": 1222.99245256249,
    "scale": 4622324.434309
   },
   {
    "level": 8,
    "resolution": 611.49622628138,
    "scale": 2311162.217155
   },
   {
    "level": 9,
    "resolution": 305.748113140558,
    "scale": 1155581.108577
   },
   {
    "level": 10,
    "resolution": 152.874056570411,
    "scale": 577790.554289
   },
   {
    "level": 11,
    "resolution": 76.4370282850732,
    "scale": 288895.277144
   },
   {
    "level": 12,
    "resolution": 38.2185141425366,
    "scale": 144447.638572
   },
   {
    "level": 13,
    "resolution": 19.1092570712683,
    "scale": 72223.819286
   },
   {
    "level": 14,
    "resolution": 9.55462853563415,
    "scale": 36111.909643
   },
   {
    "level": 15,
    "resolution": 4.77731426794937,
    "scale": 18055.954822
   },
   {
    "level": 16,
    "resolution": 2.38865713397468,
    "scale": 9027.977411
   },
   {
    "level": 17,
    "resolution": 1.19432856685505,
    "scale": 4513.988705
   },
   {
    "level": 18,
    "resolution": 0.597164283559817,
    "scale": 2256.994353
   },
   {
    "level": 19,
    "resolution": 0.298582141647617,
    "scale": 1128.497176
   },
   {
    "level": 20,
    "resolution": 0.14929107082380833,
    "scale": 564.248588
   },
   {
    "level": 21,
    "resolution": 0.07464553541190416,
    "scale": 282.124294
   },
   {
    "level": 22,
    "resolution": 0.03732276770595208,
    "scale": 141.062147
   },
   {
    "level": 23,
    "resolution": 0.01866138385297604,
    "scale": 70.5310735
   }
  ],
  "format": "PNG",
  "compressionQuality": 0,
  "bandCount": 1,
  "lercError": 0,
  "storageFormat": "esriMapCacheStorageModeCompactV2",
  "packetSize": 128
 },
 "name": "Map",
 "serviceDescription": "",
 "units": "esriMeters",
 "minLOD": 7,
 "maxLOD": 18,
 "resampling": true,
 "layers": [
  {
   "id": 0,
   "name": "Land Use, 2015",
   "parentLayerId": -1,
   "defaultVisibility": true,
   "subLayerIds": null,
   "minScale": 0,
   "maxScale": 0,
   "type": "Feature Layer",
   "geometryType": "esriGeometryPolygon",
   "supportsDynamicLegends": true,
   "legend": [
    {
     "label": "SINGLE-FAMILY HOUSING",
     "imageData": "iVBORw0KGgoAAAANSUhEUgAAABQAAAAUCAYAAACNiR0NAAAACXBIWXMAAA7EAAAOxAGVKw4bAAAAM0lEQVQ4je3MoREAMAwDsQBP3b2D2ysM9rNYA0jd5xZIZPYl9Ak4hoQ+AceQ0CfgqOXhA3eZA7RCp4sqAAAAAElFTkSuQmCC",
     "contentType": "image/png",
     "groupId": "0",
     "height": 20,
     "width": 20,
     "values": [
      "SINGLE-FAMILY HOUSING"
     ],
     "layerId": 0,
     "layerName": "Land Use, 2015"
    },
    {
     "label": "ATTACHED CONDO HOUSING",
     "imageData": "iVBORw0KGgoAAAANSUhEUgAAABQAAAAUCAYAAACNiR0NAAAACXBIWXMAAA7EAAAOxAGVKw4bAAAAM0lEQVQ4je3MoREAMAwDsQDP2m0zU3uFwX4WawCp+9wCicy+hD4Bx5DQJ+AYEvoEHLU8fP9QA1AC4TbHAAAAAElFTkSuQmCC",
     "contentType": "image/png",
     "groupId": "0",
     "height": 20,
     "width": 20,
     "values": [
      "ATTACHED CONDO HOUSING"
     ],
     "layerId": 0,
     "layerName": "Land Use, 2015"
    },
    {
     "label": "MULTI-FAMILY HOUSING",
     "imageData": "iVBORw0KGgoAAAANSUhEUgAAABQAAAAUCAYAAACNiR0NAAAACXBIWXMAAA7EAAAOxAGVKw4bAAAAM0lEQVQ4je3MsREAMAwCMYrff5As6VxK19AFDSDmaBREMnsa+ggcS0MfgWNp6CNw6PPwAtnsAvkPHcA2AAAAAElFTkSuQmCC",
     "contentType": "image/png",
     "groupId": "0",
     "height": 20,
     "width": 20,
     "values": [
      "MULTI-FAMILY HOUSING"
     ],
     "layerId": 0,
     "layerName": "Land Use, 2015"
    },
    {
     "label": "RURAL RESIDENTIAL",
     "imageData": "iVBORw0KGgoAAAANSUhEUgAAABQAAAAUCAYAAACNiR0NAAAACXBIWXMAAA7EAAAOxAGVKw4bAAAAOklEQVQ4je3MIRIAMAgDwXQmf+SL8EqqKtCJK+vOHDPREY2n6kBpwow7lFFfTDvU0fAYdqij4YHPhxcZLhBNAmyMpQAAAABJRU5ErkJggg==",
     "contentType": "image/png",
     "groupId": "0",
     "height": 20,
     "width": 20,
     "values": [
      "RURAL RESIDENTIAL"
     ],
     "layerId": 0,
     "layerName": "Land Use, 2015"
    },
    {
     "label": "MOBILE HOME",
     "imageData": "iVBORw0KGgoAAAANSUhEUgAAABQAAAAUCAYAAACNiR0NAAAACXBIWXMAAA7EAAAOxAGVKw4bAAAAM0lEQVQ4jWMp9mH4z0BFwEJNw0Bg1EDKAQsVzEABowZSDlioYAYKGDWQcsBCBTMYRriBABIhAg/gtQSLAAAAAElFTkSuQmCC",
     "contentType": "image/png",
     "groupId": "0",
     "height": 20,
     "width": 20,
     "values": [
      "MOBILE HOME"
     ],
     "layerId": 0,
     "layerName": "Land Use, 2015"
    },
    {
     "label": "AGRICULTURAL",
     "imageData": "iVBORw0KGgoAAAANSUhEUgAAABQAAAAUCAYAAACNiR0NAAAACXBIWXMAAA7EAAAOxAGVKw4bAAAAPElEQVQ4jWNZsYLhv69vFQMMbN7cxkAJn4WByoBl1ECKAQvlRqCCUQMpByxUMAMFjBpIOWChghkMI9xAAF5fD7R/pVC+AAAAAElFTkSuQmCC",
     "contentType": "image/png",
     "groupId": "0",
     "height": 20,
     "width": 20,
     "values": [
      "AGRICULTURAL"
     ],
     "layerId": 0,
     "layerName": "Land Use, 2015"
    },
    {
     "label": "MIXED USE",
     "imageData": "iVBORw0KGgoAAAANSUhEUgAAABQAAAAUCAYAAACNiR0NAAAACXBIWXMAAA7EAAAOxAGVKw4bAAAAgElEQVQ4jd2USwqAMAxEZ5FVPZo38l49WrJVIgiKtW0+K2cTGMKDMJ0S87YDQFlWHRCuuEv9Ge/yabRggQlXUCZMRZkw1XlyFuwFjMIewAxY6aXsgclXyl5YM+UIbCoUq0+ZsOKpXg8m1uqNYM2mqCL9pkjKruqpLG+VRgv/+2AP/WfZFKKCwHYAAAAASUVORK5CYII=",
     "contentType": "image/png",
     "groupId": "0",
     "height": 20,
     "width": 20,
     "values": [
      "MIXED USE"
     ],
     "layerId": 0,
     "layerName": "Land Use, 2015"
    },
    {
     "label": "RETAIL",
     "imageData": "iVBORw0KGgoAAAANSUhEUgAAABQAAAAUCAYAAACNiR0NAAAACXBIWXMAAA7EAAAOxAGVKw4bAAAAcElEQVQ4jd2UMQ7AMAgDPfhlPJyvpUKZqjYkUE/1aIUTkWU43AdCZoA7Hnrzk7dUwuAOKmGhuaEIFuLRYOEXVMLuQAEMacoNGJYpN2HnoRR8KmH7UKq+daqXwFCu3gZWq97Kt071DmHfUm5VD388sBdjCZJPaZdpaAAAAABJRU5ErkJggg==",
     "contentType": "image/png",
     "groupId": "0",
     "height": 20,
     "width": 20,
     "values": [
      "RETAIL"
     ],
     "layerId": 0,
     "layerName": "Land Use, 2015"
    },
    {
     "label": "OFFICE",
     "imageData": "iVBORw0KGgoAAAANSUhEUgAAABQAAAAUCAYAAACNiR0NAAAACXBIWXMAAA7EAAAOxAGVKw4bAAAAMUlEQVQ4je3MoREAMAwDMQPvv3J6hcF+FmsAeaQRyGT2NcwZOJaGOQPH0jBn4NDx8AGnPAJP4Ic8NAAAAABJRU5ErkJggg==",
     "contentType": "image/png",
     "groupId": "0",
     "height": 20,
     "width": 20,
     "values": [
      "OFFICE"
     ],
     "layerId": 0,
     "layerName": "Land Use, 2015"
    },
    {
     "label": "HOSPITALITY",
     "imageData": "iVBORw0KGgoAAAANSUhEUgAAABQAAAAUCAYAAACNiR0NAAAACXBIWXMAAA7EAAAOxAGVKw4bAAAAM0lEQVQ4jWNZwcDwn4GKgIWahoHAqIGUAxYqmIECRg2kHLBQwQwUMGog5YCFCmYwjHADAYDpAfi4NrpiAAAAAElFTkSuQmCC",
     "contentType": "image/png",
     "groupId": "0",
     "height": 20,
     "width": 20,
     "values": [
      "HOSPITALITY"
     ],
     "layerId": 0,
     "layerName": "Land Use, 2015"
    },
    {
     "label": "INSTITUTIONAL",
     "imageData": "iVBORw0KGgoAAAANSUhEUgAAABQAAAAUCAYAAACNiR0NAAAACXBIWXMAAA7EAAAOxAGVKw4bAAAAeklEQVQ4jd2UwQ2AMAwD/chgVdbqm7UixmGLovID0bQJfuGn1ZxSWY5YOxoA6LbDasFTb773VpgwqwXChHVdG7JgXbIyGPmFMGE3IAOmXsoZmI1SzsKWQ4n4woRNQ4n6mqmeB7No9WawUPVGvmaqtwr7lHKqevjlgT0BwSXafM+iCn0AAAAASUVORK5CYII=",
     "contentType": "image/png",
     "groupId": "0",
     "height": 20,
     "width": 20,
     "values": [
      "INSTITUTIONAL"
     ],
     "layerId": 0,
     "layerName": "Land Use, 2015"
    },
    {
     "label": "MEDICAL",
     "imageData": "iVBORw0KGgoAAAANSUhEUgAAABQAAAAUCAYAAACNiR0NAAAACXBIWXMAAA7EAAAOxAGVKw4bAAAANElEQVQ4jWOZd/3QfwYqAhZqGgYCowZSDlioYAYKGDWQcsBCBTNQwKiBlAMWKpjBMMINBABagQOHHpVEygAAAABJRU5ErkJggg==",
     "contentType": "image/png",
     "groupId": "0",
     "height": 20,
     "width": 20,
     "values": [
      "MEDICAL"
     ],
     "layerId": 0,
     "layerName": "Land Use, 2015"
    },
    {
     "label": "INDUSTRIAL",
     "imageData": "iVBORw0KGgoAAAANSUhEUgAAABQAAAAUCAYAAACNiR0NAAAACXBIWXMAAA7EAAAOxAGVKw4bAAAAM0lEQVQ4jWMpcOn8z0BFwEJNw0Bg1EDKAQsVzEABowZSDlioYAYKGDWQcsBCBTMYRriBAC4eAo3yXB8KAAAAAElFTkSuQmCC",
     "contentType": "image/png",
     "groupId": "0",
     "height": 20,
     "width": 20,
     "values": [
      "INDUSTRIAL",
      "DATA CENTER"
     ],
     "layerId": 0,
     "layerName": "Land Use, 2015"
    },
    {
     "label": "GOLF COURSE",
     "imageData": "iVBORw0KGgoAAAANSUhEUgAAABQAAAAUCAYAAACNiR0NAAAACXBIWXMAAA7EAAAOxAGVKw4bAAAAS0lEQVQ4jWP5////fwYqAhZqGgY30HIlI8Px8P9wGlmMVHkWkABMAkbjYhMjz8IwMr1sOehdSE3AAiJGvcww+LxsOehdSE0w+L0MAAy6E+lzf+ukAAAAAElFTkSuQmCC",
     "contentType": "image/png",
     "groupId": "0",
     "height": 20,
     "width": 20,
     "values": [
      "GOLF COURSE"
     ],
     "layerId": 0,
     "layerName": "Land Use, 2015"
    },
    {
     "label": "PARK AND OPEN SPACE",
     "imageData": "iVBORw0KGgoAAAANSUhEUgAAABQAAAAUCAYAAACNiR0NAAAACXBIWXMAAA7EAAAOxAGVKw4bAAAAPElEQVQ4jWNZsYLhv7z+PAYYeHgxiYESPgsDlQHLqIEUAxbKjUAFowZSDlioYAYKGDWQcsBCBTMYRriBAGROD4yXl9JKAAAAAElFTkSuQmCC",
     "contentType": "image/png",
     "groupId": "0",
     "height": 20,
     "width": 20,
     "values": [
      "PARK AND OPEN SPACE"
     ],
     "layerId": 0,
     "layerName": "Land Use, 2015"
    },
    {
     "label": "RECREATION",
     "imageData": "iVBORw0KGgoAAAANSUhEUgAAABQAAAAUCAYAAACNiR0NAAAACXBIWXMAAA7EAAAOxAGVKw4bAAAAOElEQVQ4jWMpWMHwn4GKgKU/nKrmMbBQ1TQGWhhYuJKRugb2j4YhpYBlNAwpBiyjYUgxYBl5YQgAISAQTRPBqFkAAAAASUVORK5CYII=",
     "contentType": "image/png",
     "groupId": "0",
     "height": 20,
     "width": 20,
     "values": [
      "RECREATION"
     ],
     "layerId": 0,
     "layerName": "Land Use, 2015"
    },
    {
     "label": "CEMETERY",
     "imageData": "iVBORw0KGgoAAAANSUhEUgAAABQAAAAUCAYAAACNiR0NAAAACXBIWXMAAA7EAAAOxAGVKw4bAAAATElEQVQ4jWPZcn3efwYqAhZqGkY7A3tSJzOUzM6F08hipMqzgARgEjAaF5sYeRaaeJmagAVEjIYhRYAFRIyGIUWABUSMhiFFgOphCAD1jKONLAM+7wAAAABJRU5ErkJggg==",
     "contentType": "image/png",
     "groupId": "0",
     "height": 20,
     "width": 20,
     "values": [
      "CEMETERY"
     ],
     "layerId": 0,
     "layerName": "Land Use, 2015"
    },
    {
     "label": "EXTRACTIVE",
     "imageData": "iVBORw0KGgoAAAANSUhEUgAAABQAAAAUCAYAAACNiR0NAAAACXBIWXMAAA7EAAAOxAGVKw4bAAAARklEQVQ4jWNxsDH8z0BFwAIi9h8+hyLoaGtElBg2cRZquo52BjraGmFIECuGLj4ahggwGoZEAxYQMRqGFAEWEDEahgyUAABToUWN4Bym7AAAAABJRU5ErkJggg==",
     "contentType": "image/png",
     "groupId": "0",
     "height": 20,
     "width": 20,
     "values": [
      "EXTRACTIVE"
     ],
     "layerId": 0,
     "layerName": "Land Use, 2015"
    },
    {
     "label": "TCU",
     "imageData": "iVBORw0KGgoAAAANSUhEUgAAABQAAAAUCAYAAACNiR0NAAAACXBIWXMAAA7EAAAOxAGVKw4bAAAASklEQVQ4jWP5////fwYqAhZqGgY3kJGRkQHkUBiNLEaqPAtIACaB7HtsbGLkWRhGppcZB70LqQlYQMSolxkGn5cZB70LqQkGv5cBbhE+yfSBhawAAAAASUVORK5CYII=",
     "contentType": "image/png",
     "groupId": "0",
     "height": 20,
     "width": 20,
     "values": [
      "TCU"
     ],
     "layerId": 0,
     "layerName": "Land Use, 2015"
    },
    {
     "label": "VACANT",
     "imageData": "iVBORw0KGgoAAAANSUhEUgAAABQAAAAUCAYAAACNiR0NAAAACXBIWXMAAA7EAAAOxAGVKw4bAAAAX0lEQVQ4je3SwQrAIAwD0BT6/78cyWAbsjmd5mgO7SW8UxIAocPjNRMRQ53slf5gJJFOTEkn9gnOYE1wFnsFV7AHuIpVoAO7QBcWGrYTo4btxJQ9bOxh3xnpKLZhn70COqKCUFfI4IMAAAAASUVORK5CYII=",
     "contentType": "image/png",
     "groupId": "0",
     "height": 20,
     "width": 20,
     "values": [
      "VACANT"
     ],
     "layerId": 0,
     "layerName": "Land Use, 2015"
    },
    {
     "label": "VACANT IMPROVED",
     "imageData": "iVBORw0KGgoAAAANSUhEUgAAABQAAAAUCAYAAACNiR0NAAAACXBIWXMAAA7EAAAOxAGVKw4bAAAAlUlEQVQ4ja2USwoAIQxDXeRIvf8JeqcOwghl6CeVyUrrI6g1wsxsvRKRpapnmtYqFr6wAQ9mZhWLDDzjShGL9bPwLbBHzlhkQHRPDIsMqEwrFszRvGnHogOqnYaGixS9QyUgv97x6KConvHiuzzpZsRL9A4n3fR8GT3WbBw9IUxH0dPG9Cp6WnTzOnqTT3eLit7k030A9wTngWNMsbsAAAAASUVORK5CYII=",
     "contentType": "image/png",
     "groupId": "0",
     "height": 20,
     "width": 20,
     "values": [
      "VACANT IMPROVED"
     ],
     "layerId": 0,
     "layerName": "Land Use, 2015"
    },
    {
     "label": "WATER",
     "imageData": "iVBORw0KGgoAAAANSUhEUgAAABQAAAAUCAYAAACNiR0NAAAACXBIWXMAAA7EAAAOxAGVKw4bAAAANElEQVQ4jWMpXrX/PwMVAQs1DQOBUQMpByxUMAMFjBpIOWChghkoYNRAygELFcxgGOEGAgAbFQMsxUbJpwAAAABJRU5ErkJggg==",
     "contentType": "image/png",
     "groupId": "0",
     "height": 20,
     "width": 20,
     "values": [
      "WATER"
     ],
     "layerId": 0,
     "layerName": "Land Use, 2015"
    }
   ],
   "layerId": 0,
   "layerName": "Land Use, 2015",
   "serviceItemId": "0f8170e152e4405e9cf6e2d1c5223c17"
  }
 ],
 "initialExtent": {
  "xmin": -9369357.486712243,
  "ymin": 5115000.742067887,
  "xmax": -9168888.025330259,
  "ymax": 5342497.901118526,
  "spatialReference": {
   "wkid": 102100,
   "latestWkid": 3857
  }
 },
 "fullExtent": {
  "xmin": -9369357.486712243,
  "ymin": 5115000.742067887,
  "xmax": -9168888.025330259,
  "ymax": 5342497.901118526,
  "spatialReference": {
   "wkid": 102100,
   "latestWkid": 3857
  }
 },
 "minScale": 0,
 "maxScale": 0,
 "exportTilesAllowed": false,
 "maxExportTilesCount": 0,
 "currentVersion": 11.5,
 "mapName": "Map",
 "singleFusedMapCache": true,
 "type": "MapServer",
 "supportedExtensions": "",
 "capabilities": "TilesOnly,Tilemap",
 "serviceItemId": "0f8170e152e4405e9cf6e2d1c5223c17"
}
